BEGIN:VCALENDAR
VERSION:2.0
PRODID:-//wp-events-plugin.com//6.6.3//EN
TZID:Europe/Berlin
X-WR-TIMEZONE:Europe/Berlin
BEGIN:VEVENT
UID:277@achteminute.de
DTSTART;TZID=Europe/Berlin;VALUE=DATE:20190712
DTEND;TZID=Europe/Berlin;VALUE=DATE:20190715
DTSTAMP:20190326T200456Z
URL:https://www.achteminute.de/en/event/bucharest-open/
SUMMARY:[:en]Bucharest Open[:]
DESCRIPTION:
ATTACH;FMTTYPE=image/jpeg:https://www.achteminute.de/wp-content/uploads/20
 19/03/Bucharest-Open-2019.jpg
CATEGORIES:Events in English
END:VEVENT
BEGIN:VTIMEZONE
TZID:Europe/Berlin
X-LIC-LOCATION:Europe/Berlin
BEGIN:DAYLIGHT
DTSTART:20190331T030000
TZOFFSETFROM:+0100
TZOFFSETTO:+0200
TZNAME:CEST
END:DAYLIGHT
END:VTIMEZONE
END:VCALENDAR