BEGIN:VCALENDAR
VERSION:2.0
PRODID:-//wp-events-plugin.com//6.6.3//EN
TZID:Europe/Berlin
X-WR-TIMEZONE:Europe/Berlin
BEGIN:VEVENT
UID:346@achteminute.de
DTSTART;TZID=Europe/Berlin;VALUE=DATE:20200424
DTEND;TZID=Europe/Berlin;VALUE=DATE:20200427
DTSTAMP:20200111T173418Z
URL:https://www.achteminute.de/event/cracow-open-4/
SUMMARY:[:en]Cracow Open[:]
DESCRIPTION:
ATTACH;FMTTYPE=image/jpeg:https://www.achteminute.de/wp-content/uploads/20
 20/01/Cracow-Open-2020.jpg
CATEGORIES:Englischsprachige Events
LOCATION:Collegium Paderevianaum\, aleja Adama Mickiewicza 9\, Cracow\, Pol
 en
X-APPLE-STRUCTURED-LOCATION;VALUE=URI;X-ADDRESS=aleja Adama Mickiewicza 9\,
  Cracow\, Polen;X-APPLE-RADIUS=100;X-TITLE=Collegium Paderevianaum:geo:0,0
END:VEVENT
BEGIN:VTIMEZONE
TZID:Europe/Berlin
X-LIC-LOCATION:Europe/Berlin
BEGIN:DAYLIGHT
DTSTART:20200329T030000
TZOFFSETFROM:+0100
TZOFFSETTO:+0200
TZNAME:CEST
END:DAYLIGHT
END:VTIMEZONE
END:VCALENDAR