BEGIN:VCALENDAR
VERSION:2.0
PRODID:-//wp-events-plugin.com//6.6.3//EN
TZID:Europe/Berlin
X-WR-TIMEZONE:Europe/Berlin
BEGIN:VEVENT
UID:302@achteminute.de
DTSTART;TZID=Europe/Berlin;VALUE=DATE:20191011
DTEND;TZID=Europe/Berlin;VALUE=DATE:20191014
DTSTAMP:20190731T144254Z
URL:https://www.achteminute.de/event/ljubljana-iv/
SUMMARY:[:en]Ljubljana IV[:]
DESCRIPTION:
ATTACH;FMTTYPE=image/jpeg:https://www.achteminute.de/wp-content/uploads/20
 19/07/Ljubljana-IV-2019.jpg
CATEGORIES:Englischsprachige Events
LOCATION:University of Ljubljana Debate Society\, Vojkova Cesta 63\, Ljublj
 ana\, Slowenien
X-APPLE-STRUCTURED-LOCATION;VALUE=URI;X-ADDRESS=Vojkova Cesta 63\, Ljubljan
 a\, Slowenien;X-APPLE-RADIUS=100;X-TITLE=University of Ljubljana Debate So
 ciety:geo:0,0
END:VEVENT
BEGIN:VTIMEZONE
TZID:Europe/Berlin
X-LIC-LOCATION:Europe/Berlin
BEGIN:DAYLIGHT
DTSTART:20190331T030000
TZOFFSETFROM:+0100
TZOFFSETTO:+0200
TZNAME:CEST
END:DAYLIGHT
END:VTIMEZONE
END:VCALENDAR