BEGIN:VCALENDAR
VERSION:2.0
PRODID:-//wp-events-plugin.com//6.6.3//EN
TZID:Europe/Berlin
X-WR-TIMEZONE:Europe/Berlin
BEGIN:VEVENT
UID:332@achteminute.de
DTSTART;TZID=Europe/Berlin;VALUE=DATE:20191214
DTEND;TZID=Europe/Berlin;VALUE=DATE:20191215
DTSTAMP:20191201T221721Z
URL:https://www.achteminute.de/event/tilbury-house-novice/
SUMMARY:Tilbury House Novice
DESCRIPTION:
ATTACH;FMTTYPE=image/jpeg:https://www.achteminute.de/wp-content/uploads/20
 19/12/Tilbury-House-Novice-2019.jpg
CATEGORIES:Deutschsprachige Events,Englischsprachige Events
LOCATION:University of Cologne\, Albertus-Magnus-Platz 1\, Cologne\, Deutsc
 hland
X-APPLE-STRUCTURED-LOCATION;VALUE=URI;X-ADDRESS=Albertus-Magnus-Platz 1\, C
 ologne\, Deutschland;X-APPLE-RADIUS=100;X-TITLE=University of Cologne:geo:
 0,0
END:VEVENT
BEGIN:VTIMEZONE
TZID:Europe/Berlin
X-LIC-LOCATION:Europe/Berlin
BEGIN:STANDARD
DTSTART:20191027T020000
TZOFFSETFROM:+0200
TZOFFSETTO:+0100
TZNAME:CET
END:STANDARD
END:VTIMEZONE
END:VCALENDAR